BEGIN:VCALENDAR
VERSION:2.0
PRODID:https://plmxpert.nl/events/pro-file-eplan-mechatronics-next-level
BEGIN:VEVENT
UID:69e8ca052f7a5
DTSTART:20260612T090000
SEQUENCE:0
TRANSP:OPAQUE
DTEND:20260612T103000
SUMMARY:PRO.FILE & EPLAN - Mechatronics Next Level
CLASS:PUBLIC
DTSTAMP:20260422T131549Z
END:VEVENT
END:VCALENDAR